BEGIN:VCALENDAR
VERSION:2.0
PRODID:icalendar-ruby
CALSCALE:GREGORIAN
METHOD:PUBLISH
BEGIN:VEVENT
DTSTAMP:20260419T134122Z
UID:5-389106@trinitymclean.church
DTSTART:20261018T173000Z
DTEND:20261018T183000Z
CLASS:PUBLIC
CREATED:20260419T053803
DESCRIPTION:Sunday Worship
LAST-MODIFIED:20260419T053803
LOCATION:
SUMMARY:Sunday Worship
URL;VALUE=URI:https://trinitymclean.church/events/sunday-worship/2026-10-18
END:VEVENT
END:VCALENDAR
