BEGIN:VCALENDAR
VERSION:2.0
PRODID:icalendar-ruby
CALSCALE:GREGORIAN
METHOD:PUBLISH
BEGIN:VEVENT
DTSTAMP:20260419T152443Z
UID:5-389107@trinitymclean.church
DTSTART:20261025T173000Z
DTEND:20261025T183000Z
CLASS:PUBLIC
CREATED:20260419T053803
DESCRIPTION:Sunday Worship
LAST-MODIFIED:20260419T053803
LOCATION:
SUMMARY:Sunday Worship
URL;VALUE=URI:https://trinitymclean.church/events/sunday-worship/2026-10-25
END:VEVENT
END:VCALENDAR
